BEGIN:VCALENDAR
VERSION:2.0
PRODID:-//Eloia Healing Arts - ECPv6.15.20//NONSGML v1.0//EN
CALSCALE:GREGORIAN
METHOD:PUBLISH
X-WR-CALNAME:Eloia Healing Arts
X-ORIGINAL-URL:https://eloiahealingarts.com
X-WR-CALDESC:Events for Eloia Healing Arts
REFRESH-INTERVAL;VALUE=DURATION:PT1H
X-Robots-Tag:noindex
X-PUBLISHED-TTL:PT1H
BEGIN:VTIMEZONE
TZID:America/Los_Angeles
BEGIN:DAYLIGHT
TZOFFSETFROM:-0800
TZOFFSETTO:-0700
TZNAME:PDT
DTSTART:20250309T100000
END:DAYLIGHT
BEGIN:STANDARD
TZOFFSETFROM:-0700
TZOFFSETTO:-0800
TZNAME:PST
DTSTART:20251102T090000
END:STANDARD
BEGIN:DAYLIGHT
TZOFFSETFROM:-0800
TZOFFSETTO:-0700
TZNAME:PDT
DTSTART:20260308T100000
END:DAYLIGHT
BEGIN:STANDARD
TZOFFSETFROM:-0700
TZOFFSETTO:-0800
TZNAME:PST
DTSTART:20261101T090000
END:STANDARD
BEGIN:DAYLIGHT
TZOFFSETFROM:-0800
TZOFFSETTO:-0700
TZNAME:PDT
DTSTART:20270314T100000
END:DAYLIGHT
BEGIN:STANDARD
TZOFFSETFROM:-0700
TZOFFSETTO:-0800
TZNAME:PST
DTSTART:20271107T090000
END:STANDARD
END:VTIMEZONE
BEGIN:VEVENT
DTSTART;TZID=America/Los_Angeles:20260422T190000
DTEND;TZID=America/Los_Angeles:20260422T203000
DTSTAMP:20260422T031647
CREATED:20260331T040539Z
LAST-MODIFIED:20260331T040841Z
UID:10000175-1776884400-1776889800@eloiahealingarts.com
SUMMARY:Sound Bath Journey - Earth Day/ Earth Star Chakra Activation
DESCRIPTION:Strengthen your connection to your Earth Star Chakra\, while giving and receiving blessings of Mother Gaia. \n\n\n\nDuring the gentle Guided meditation\, allow the beautiful vibrations of SIXTEEN chakra-tuned crystal and metal singing bowls\, along with the tremendous healing power of TEN planetary-tuned gongs to release long-held stress\, tension\, and blockages. Gain insight and inner space during this inward journey through sound. \n\n\n\n$35.00/pre-sale \n\n\n\nSit in one of our comfy chairs (meditation chairs\, meditation stools\, or bench seating) or if you prefer to lie down\, bring a yoga mat to lie down. We do not share community sticky mats at Eloia Healing Arts. \n\n\n\nDoors open 10-15 minutes prior to the event to get settled. \n\n\n\nIn-person sound bath experiences are very physical in nature–many feel as if they had a massage\, after a sound bath. Because of the intensity of the vibrations\, this is not recommended for those sensitive to sound\, including children and those who are pregnant. \n\n\n\nThere are no refunds offered for sound baths\, however your ticket is fully transferable to someone else should you be unable to attend. Also\, with twenty-four hours’ notice\, we can transfer your payment to an upcoming sound bath.
URL:https://eloiahealingarts.com/event/sound-bath-journey-earth-day-earth-star-chakra-activation/
LOCATION:Eloia Healing Arts\, 41690 Enterprise Circle\, North\, suite #108\, Temecula\, CA\, 92590\, United States
CATEGORIES:Sound Baths
ATTACH;FMTTYPE=image/jpeg:https://eloiahealingarts.com/wp-content/uploads/2022/03/IMG_0850.jpg
END:VEVENT
END:VCALENDAR