BEGIN:VCALENDAR
VERSION:2.0
PRODID:-//Eloia Healing Arts - ECPv6.15.20//NONSGML v1.0//EN
CALSCALE:GREGORIAN
METHOD:PUBLISH
X-WR-CALNAME:Eloia Healing Arts
X-ORIGINAL-URL:https://eloiahealingarts.com
X-WR-CALDESC:Events for Eloia Healing Arts
REFRESH-INTERVAL;VALUE=DURATION:PT1H
X-Robots-Tag:noindex
X-PUBLISHED-TTL:PT1H
BEGIN:VTIMEZONE
TZID:America/Los_Angeles
BEGIN:DAYLIGHT
TZOFFSETFROM:-0800
TZOFFSETTO:-0700
TZNAME:PDT
DTSTART:20240310T100000
END:DAYLIGHT
BEGIN:STANDARD
TZOFFSETFROM:-0700
TZOFFSETTO:-0800
TZNAME:PST
DTSTART:20241103T090000
END:STANDARD
BEGIN:DAYLIGHT
TZOFFSETFROM:-0800
TZOFFSETTO:-0700
TZNAME:PDT
DTSTART:20250309T100000
END:DAYLIGHT
BEGIN:STANDARD
TZOFFSETFROM:-0700
TZOFFSETTO:-0800
TZNAME:PST
DTSTART:20251102T090000
END:STANDARD
BEGIN:DAYLIGHT
TZOFFSETFROM:-0800
TZOFFSETTO:-0700
TZNAME:PDT
DTSTART:20260308T100000
END:DAYLIGHT
BEGIN:STANDARD
TZOFFSETFROM:-0700
TZOFFSETTO:-0800
TZNAME:PST
DTSTART:20261101T090000
END:STANDARD
BEGIN:DAYLIGHT
TZOFFSETFROM:-0800
TZOFFSETTO:-0700
TZNAME:PDT
DTSTART:20270314T100000
END:DAYLIGHT
BEGIN:STANDARD
TZOFFSETFROM:-0700
TZOFFSETTO:-0800
TZNAME:PST
DTSTART:20271107T090000
END:STANDARD
END:VTIMEZONE
BEGIN:VEVENT
DTSTART;TZID=America/Los_Angeles:20260403T090000
DTEND;TZID=America/Los_Angeles:20260403T094500
DTSTAMP:20260422T105137
CREATED:20251229T021515Z
LAST-MODIFIED:20251230T015932Z
UID:10000043-1775206800-1775209500@eloiahealingarts.com
SUMMARY:Women's Reiki Circle (a Zoom gathering)
DESCRIPTION:This Reiki Circle is for female Reiki practitioners of all levels and all lineages. Sorry\, men\, we love you\, but this dance is just for the women. Our mission: Women supporting women—Yin Healing with the Sacred Feminine. \n\n\n\nWe gather to support\, encourage\, empower\, and grow our light for the benefit of all.  \n\n\n\nWe start with a brief meditation\, a time of sharing and setting personal and global intentions\, followed by a guided journey and Reiki Share. \n\n\n\nReiki practitioners of all levels are welcome to join us.
URL:https://eloiahealingarts.com/event/womens-reiki-circle-a-zoom-gathring/2026-04-03/
CATEGORIES:Reiki Share/Circle
ATTACH;FMTTYPE=image/jpeg:https://eloiahealingarts.com/wp-content/uploads/2025/12/Womens-Reiki-Circle-2026-info-wQR.jpg
END:VEVENT
BEGIN:VEVENT
DTSTART;TZID=America/Los_Angeles:20260306T090000
DTEND;TZID=America/Los_Angeles:20260306T094500
DTSTAMP:20260422T105137
CREATED:20251229T021515Z
LAST-MODIFIED:20251230T015932Z
UID:10000042-1772787600-1772790300@eloiahealingarts.com
SUMMARY:Women's Reiki Circle (a Zoom gathering)
DESCRIPTION:This Reiki Circle is for female Reiki practitioners of all levels and all lineages. Sorry\, men\, we love you\, but this dance is just for the women. Our mission: Women supporting women—Yin Healing with the Sacred Feminine. \n\n\n\nWe gather to support\, encourage\, empower\, and grow our light for the benefit of all.  \n\n\n\nWe start with a brief meditation\, a time of sharing and setting personal and global intentions\, followed by a guided journey and Reiki Share. \n\n\n\nReiki practitioners of all levels are welcome to join us.
URL:https://eloiahealingarts.com/event/womens-reiki-circle-a-zoom-gathring/2026-03-06/
CATEGORIES:Reiki Share/Circle
ATTACH;FMTTYPE=image/jpeg:https://eloiahealingarts.com/wp-content/uploads/2025/12/Womens-Reiki-Circle-2026-info-wQR.jpg
END:VEVENT
BEGIN:VEVENT
DTSTART;TZID=America/Los_Angeles:20260206T090000
DTEND;TZID=America/Los_Angeles:20260206T094500
DTSTAMP:20260422T105137
CREATED:20251229T021515Z
LAST-MODIFIED:20251230T015932Z
UID:10000041-1770368400-1770371100@eloiahealingarts.com
SUMMARY:Women's Reiki Circle (a Zoom gathering)
DESCRIPTION:This Reiki Circle is for female Reiki practitioners of all levels and all lineages. Sorry\, men\, we love you\, but this dance is just for the women. Our mission: Women supporting women—Yin Healing with the Sacred Feminine. \n\n\n\nWe gather to support\, encourage\, empower\, and grow our light for the benefit of all.  \n\n\n\nWe start with a brief meditation\, a time of sharing and setting personal and global intentions\, followed by a guided journey and Reiki Share. \n\n\n\nReiki practitioners of all levels are welcome to join us.
URL:https://eloiahealingarts.com/event/womens-reiki-circle-a-zoom-gathring/2026-02-06/
CATEGORIES:Reiki Share/Circle
ATTACH;FMTTYPE=image/jpeg:https://eloiahealingarts.com/wp-content/uploads/2025/12/Womens-Reiki-Circle-2026-info-wQR.jpg
END:VEVENT
BEGIN:VEVENT
DTSTART;TZID=America/Los_Angeles:20260102T090000
DTEND;TZID=America/Los_Angeles:20260102T094500
DTSTAMP:20260422T105137
CREATED:20251229T021515Z
LAST-MODIFIED:20251230T015932Z
UID:10000040-1767344400-1767347100@eloiahealingarts.com
SUMMARY:Women's Reiki Circle (a Zoom gathering)
DESCRIPTION:This Reiki Circle is for female Reiki practitioners of all levels and all lineages. Sorry\, men\, we love you\, but this dance is just for the women. Our mission: Women supporting women—Yin Healing with the Sacred Feminine. \n\n\n\nWe gather to support\, encourage\, empower\, and grow our light for the benefit of all.  \n\n\n\nWe start with a brief meditation\, a time of sharing and setting personal and global intentions\, followed by a guided journey and Reiki Share. \n\n\n\nReiki practitioners of all levels are welcome to join us.
URL:https://eloiahealingarts.com/event/womens-reiki-circle-a-zoom-gathring/2026-01-02/
CATEGORIES:Reiki Share/Circle
ATTACH;FMTTYPE=image/jpeg:https://eloiahealingarts.com/wp-content/uploads/2025/12/Womens-Reiki-Circle-2026-info-wQR.jpg
END:VEVENT
BEGIN:VEVENT
DTSTART;TZID=America/Los_Angeles:20251205T090000
DTEND;TZID=America/Los_Angeles:20251205T094500
DTSTAMP:20260422T105137
CREATED:20251130T160749Z
LAST-MODIFIED:20251130T161153Z
UID:10000028-1764925200-1764927900@eloiahealingarts.com
SUMMARY:Women's Reiki Circle
DESCRIPTION:Women Supporting Women\,\n\n\n\nWomen Strengthening Women\,\n\n\n\nWomen Healing Women.\n\n\n\n\n\n\n\nOur Reiki Circle meets online (Zoom): \n\n\n\nhttps://us02web.zoom.us/j/82096562146?pwd=PF2HM25zA56gC23CbLVCJs7tnefXaU.1 \n\n\n\nWe gather in community to encourage\, empower\, and grow our light for the benefit of all. We start with a brief meditation\, a time of sharing and setting personal and global intentions\, followed by a Reiki Share. \n\n\n\nPractitioners of all levels are welcome to join us.
URL:https://eloiahealingarts.com/event/womens-reiki-circle/
CATEGORIES:Reiki Share/Circle
ATTACH;FMTTYPE=image/jpeg:https://eloiahealingarts.com/wp-content/uploads/2024/12/International-Womens-Reiki-Circle-1.jpg
END:VEVENT
BEGIN:VEVENT
DTSTART;TZID=America/Los_Angeles:20251107T090000
DTEND;TZID=America/Los_Angeles:20251107T094500
DTSTAMP:20260422T105137
CREATED:20250917T071650Z
LAST-MODIFIED:20250919T052608Z
UID:10000017-1762506000-1762508700@eloiahealingarts.com
SUMMARY:International Women's Reiki Circle
DESCRIPTION:Women Supporting Women\,\n\n\n\nWomen Strengthening Women\,\n\n\n\nWomen Healing Women.\n\n\n\n\n\n\n\nOur Reiki Circle meets online (Zoom): \n\n\n\nhttps://us02web.zoom.us/j/82096562146?pwd=PF2HM25zA56gC23CbLVCJs7tnefXaU.1 \n\n\n\nWe gather in community to encourage\, empower\, and grow our light for the benefit of all. We start with a brief meditation\, a time of sharing and setting personal and global intentions\, followed by a Reiki Share. \n\n\n\nPractitioners of all levels are welcome to join us.
URL:https://eloiahealingarts.com/event/international-womens-reiki-circle-2/
CATEGORIES:Reiki Share/Circle,Zoom Event
ATTACH;FMTTYPE=image/jpeg:https://eloiahealingarts.com/wp-content/uploads/2024/12/International-Womens-Reiki-Circle-1.jpg
ORGANIZER;CN="Eloia Healing Arts":MAILTO:eloia@eloiahealingarts.com
END:VEVENT
BEGIN:VEVENT
DTSTART;TZID=America/Los_Angeles:20251003T090000
DTEND;TZID=America/Los_Angeles:20251003T094500
DTSTAMP:20260422T105137
CREATED:20250917T071330Z
LAST-MODIFIED:20250919T052720Z
UID:10000016-1759482000-1759484700@eloiahealingarts.com
SUMMARY:International Women's Reiki Circle
DESCRIPTION:Women Supporting Women\,\nWomen Strengthening Women\,\nWomen Healing Women.\n\nThis online circle welcomes all female-identifying individuals from around the world who wish to gather in the love and light of Reiki healing energies. You will find here a source of support for the journey ahead as we embrace the Divine Feminine as a joyful\, equal\, and powerful balance of spiritual energies.\n\nOur Reiki Circle meets online (Zoom):\n\nhttps://us02web.zoom.us/j/82096562146?pwd=PF2HM25zA56gC23CbLVCJs7tnefXaU.1\n\nWe gather in community to encourage\, empower\, and grow our light for the benefit of all. We start with a brief meditation\, a time of sharing and setting personal and global intentions\, followed by a Reiki Share.\n\nPractitioners of all levels are welcome to join us.\n\nRegister Here.
URL:https://eloiahealingarts.com/event/international-womens-reiki-circle/
CATEGORIES:Reiki Share/Circle,Zoom Event
ATTACH;FMTTYPE=image/jpeg:https://eloiahealingarts.com/wp-content/uploads/2024/12/International-Womens-Reiki-Circle-1.jpg
ORGANIZER;CN="Eloia Healing Arts":MAILTO:eloia@eloiahealingarts.com
END:VEVENT
BEGIN:VEVENT
DTSTART;TZID=America/Los_Angeles:20250905T090000
DTEND;TZID=America/Los_Angeles:20250905T094500
DTSTAMP:20260422T105137
CREATED:20250917T065117Z
LAST-MODIFIED:20250917T065330Z
UID:10000015-1757062800-1757065500@eloiahealingarts.com
SUMMARY:International Women's Reiki Circle [free]
DESCRIPTION:Women Supporting Women\,\nWomen Strengthening Women\,\nWomen Healing Women.\n\n\n\n\n\nThis online circle welcomes all female-identifying individuals from around the world who wish to gather in the love and light of Reiki healing energies. You will find here a source of support for the journey ahead as we embrace the Divine Feminine as a joyful\, equal\, and powerful balance of spiritual energies. \nOur Reiki Circle meets online (Zoom) and is recorded for later sharing. \nWe gather in community to encourage\, empower\, and grow our light for the benefit of all. We start with a brief meditation\, a time of sharing and setting personal and global intentions\, followed by a Reiki Share.\nPractitioners of all levels are welcome to join us. \nREAD MORE HERE.
URL:https://eloiahealingarts.com/event/international-womens-reiki-circle-free/
CATEGORIES:Reiki Share/Circle,Zoom Event
ORGANIZER;CN="Eloia Healing Arts":MAILTO:eloia@eloiahealingarts.com
END:VEVENT
END:VCALENDAR