BEGIN:VCALENDAR
VERSION:2.0
PRODID:-//Eloia Healing Arts - ECPv6.15.20//NONSGML v1.0//EN
CALSCALE:GREGORIAN
METHOD:PUBLISH
X-ORIGINAL-URL:https://eloiahealingarts.com
X-WR-CALDESC:Events for Eloia Healing Arts
REFRESH-INTERVAL;VALUE=DURATION:PT1H
X-Robots-Tag:noindex
X-PUBLISHED-TTL:PT1H
BEGIN:VTIMEZONE
TZID:America/Los_Angeles
BEGIN:DAYLIGHT
TZOFFSETFROM:-0800
TZOFFSETTO:-0700
TZNAME:PDT
DTSTART:20250309T100000
END:DAYLIGHT
BEGIN:STANDARD
TZOFFSETFROM:-0700
TZOFFSETTO:-0800
TZNAME:PST
DTSTART:20251102T090000
END:STANDARD
BEGIN:DAYLIGHT
TZOFFSETFROM:-0800
TZOFFSETTO:-0700
TZNAME:PDT
DTSTART:20260308T100000
END:DAYLIGHT
BEGIN:STANDARD
TZOFFSETFROM:-0700
TZOFFSETTO:-0800
TZNAME:PST
DTSTART:20261101T090000
END:STANDARD
BEGIN:DAYLIGHT
TZOFFSETFROM:-0800
TZOFFSETTO:-0700
TZNAME:PDT
DTSTART:20270314T100000
END:DAYLIGHT
BEGIN:STANDARD
TZOFFSETFROM:-0700
TZOFFSETTO:-0800
TZNAME:PST
DTSTART:20271107T090000
END:STANDARD
END:VTIMEZONE
BEGIN:VEVENT
DTSTART;TZID=America/Los_Angeles:20260302T190000
DTEND;TZID=America/Los_Angeles:20260302T203000
DTSTAMP:20260422T184311
CREATED:20260206T231759Z
LAST-MODIFIED:20260206T231803Z
UID:10000165-1772478000-1772483400@eloiahealingarts.com
SUMMARY:Reiki Sound Bath at the Full Moon (Virgo)
DESCRIPTION:This Sound Bath meditation channels and integrates the Divine healing energies of Reiki\, in relation to the cosmic energies of the Full Moon to bless and heal emotional discord. \n\n\n\nDuring the Guided meditation\, allow the beautiful vibrations of SIXTEEN chakra-tuned crystal and metal singing bowls\, along with the tremendous healing power of TEN planetary-tuned gongs to release long-held stress\, tension\, and blockages. Gain insight and inner space during this inward journey through sound. \n\n\n\nSit in one of our comfy bench chairs\, meditation chairs\, meditation stools\, or you may bring a yoga mat to lie down\, as space allows. \n\n\n\nYou may want to bring a notebook or journal\, to process your experience. \n\n\n\nSound baths often sell out\, so advanced registration is encouraged. \n\n\n\nDoors open 10 -15 minutes prior to the start of the event. \n\n\n\nEach attendee must be registered separately. Notify me if you have a larger group (4 or more). \n\n\n\nThank you. \n\n\n\nCost: $35.00 \n\n\n\nIMPORTANT CONSIDERATIONS:  \n\n\n\n\nIn-person sound bath experiences are very physical in nature–many feel as if they had a massage\, after a sound bath. Because of the intensity of the vibrations\, this is not recommended for those sensitive to sound\, including children and those who are pregnant.\n\n\n\nRefunds are not provided\, however your ticket is fully transferable to another participant. Feel free to send someone in your place.\n\n\n\nWith 48-hour notice\, you may transfer your seat to another upcoming sound bath. 48-hour notice is required\, so we can sell your open spot. Your credit must be used within 3-months.
URL:https://eloiahealingarts.com/event/reiki-sound-bath-at-the-full-moon-virgo/
LOCATION:Eloia Healing Arts\, 41690 Enterprise Circle\, North\, suite #108\, Temecula\, CA\, 92590\, United States
CATEGORIES:Sound Baths
ATTACH;FMTTYPE=image/jpeg:https://eloiahealingarts.com/wp-content/uploads/2025/09/Full_Moon.jpg
END:VEVENT
BEGIN:VEVENT
DTSTART;TZID=America/Los_Angeles:20260319T190000
DTEND;TZID=America/Los_Angeles:20260319T203000
DTSTAMP:20260422T184311
CREATED:20260206T234620Z
LAST-MODIFIED:20260206T235723Z
UID:10000166-1773946800-1773952200@eloiahealingarts.com
SUMMARY:Sound Bath at the Spring Equinox (New Moon)
DESCRIPTION:In this Sound Bath\, we will connect with the energies of Spring Equinox to bring blessings to the new season in our lives and for the planet. This is a celebration of balance and the new – Ostara and Springtime.   \n\n\n\nEnjoy the beautiful healing frequencies in person as the sound waves release long-held tension and holding patterns. We will use the ten planetary-tuned gongs\, fourteen singing bowls (crystal and metal)\, and voice to release\, transform\, and revitalize. \n\n\n\nChairs and mediation stools are provided.  Bring a yoga mat to lie down\, if you wish. \n\n\n\nEnjoy the benefits of a guided meditation with sound. \n\n\n\nEACH PARTICIPANT WILL NEED TO BE REGISTERED INDIVIDUALLY. SORRY FOR THE INCONVENIENCE. \n\n\n\n$35.00\, pre-sale \n\n\n\n\n\n\n\nDoors open 10 – 15 minutes prior to the event. \n\n\n\nIn-person sound bath experiences are very physical in nature–many feel as if they had a massage\, after a sound bath. Because of the intensity of the vibrations\, this is not recommended for those sensitive to sound\, including children and those who are pregnant. \n\n\n\nRefund & Transfer Policy: Pre-sale tickets are not refundable. If there is at least 48-hours advance notice\, you may transfer your ticket to an upcoming available sound bath\, within 6-months of the original date. If there is less than 48-hours notice\, feel free to give your ticket to someone else\, since you have already paid.
URL:https://eloiahealingarts.com/event/sound-bath-at-the-spring-equinox-new-moon/
LOCATION:Eloia Healing Arts\, 41690 Enterprise Circle\, North\, suite #108\, Temecula\, CA\, 92590\, United States
CATEGORIES:Sound Baths
ATTACH;FMTTYPE=image/jpeg:https://eloiahealingarts.com/wp-content/uploads/2017/09/Spring-Equinox-sound-bath-logo.jpg
END:VEVENT
BEGIN:VEVENT
DTSTART;TZID=America/Los_Angeles:20260320T190000
DTEND;TZID=America/Los_Angeles:20260320T203000
DTSTAMP:20260422T184311
CREATED:20260206T235325Z
LAST-MODIFIED:20260206T235330Z
UID:10000167-1774033200-1774038600@eloiahealingarts.com
SUMMARY:Sound Bath at the Spring Equinox (New Moon)
DESCRIPTION:In this Sound Bath\, we will connect with the energies of Spring Equinox to bring blessings to the new season in our lives and for the planet. This is a celebration of balance and the new – Ostara and Springtime.   \n\n\n\nEnjoy the beautiful healing frequencies in person as the sound waves release long-held tension and holding patterns. We will use the ten planetary-tuned gongs\, fourteen singing bowls (crystal and metal)\, and voice to release\, transform\, and revitalize. \n\n\n\nChairs and mediation stools are provided.  Bring a yoga mat to lie down\, if you wish. \n\n\n\nEnjoy the benefits of a guided meditation with sound. \n\n\n\nEACH PARTICIPANT WILL NEED TO BE REGISTERED INDIVIDUALLY. SORRY FOR THE INCONVENIENCE. \n\n\n\n$35.00\, pre-sale \n\n\n\n\n\n\n\nDoors open 10 – 15 minutes prior to the event. \n\n\n\nIn-person sound bath experiences are very physical in nature–many feel as if they had a massage\, after a sound bath. Because of the intensity of the vibrations\, this is not recommended for those sensitive to sound\, including children and those who are pregnant. \n\n\n\nRefund & Transfer Policy: Pre-sale tickets are not refundable. If there is at least 48-hours advance notice\, you may transfer your ticket to an upcoming available sound bath\, within 6-months of the original date. If there is less than 48-hours notice\, feel free to give your ticket to someone else\, since you have already paid.
URL:https://eloiahealingarts.com/event/sound-bath-at-the-spring-equinox-new-moon-2/
LOCATION:Eloia Healing Arts\, 41690 Enterprise Circle\, North\, suite #108\, Temecula\, CA\, 92590\, United States
CATEGORIES:Sound Baths
ATTACH;FMTTYPE=image/jpeg:https://eloiahealingarts.com/wp-content/uploads/2017/09/Spring-Equinox-sound-bath-logo.jpg
END:VEVENT
END:VCALENDAR