BEGIN:VCALENDAR
VERSION:2.0
PRODID:-//Eloia Healing Arts - ECPv6.15.20//NONSGML v1.0//EN
CALSCALE:GREGORIAN
METHOD:PUBLISH
X-ORIGINAL-URL:https://eloiahealingarts.com
X-WR-CALDESC:Events for Eloia Healing Arts
REFRESH-INTERVAL;VALUE=DURATION:PT1H
X-Robots-Tag:noindex
X-PUBLISHED-TTL:PT1H
BEGIN:VTIMEZONE
TZID:America/Los_Angeles
BEGIN:DAYLIGHT
TZOFFSETFROM:-0800
TZOFFSETTO:-0700
TZNAME:PDT
DTSTART:20240310T100000
END:DAYLIGHT
BEGIN:STANDARD
TZOFFSETFROM:-0700
TZOFFSETTO:-0800
TZNAME:PST
DTSTART:20241103T090000
END:STANDARD
BEGIN:DAYLIGHT
TZOFFSETFROM:-0800
TZOFFSETTO:-0700
TZNAME:PDT
DTSTART:20250309T100000
END:DAYLIGHT
BEGIN:STANDARD
TZOFFSETFROM:-0700
TZOFFSETTO:-0800
TZNAME:PST
DTSTART:20251102T090000
END:STANDARD
BEGIN:DAYLIGHT
TZOFFSETFROM:-0800
TZOFFSETTO:-0700
TZNAME:PDT
DTSTART:20260308T100000
END:DAYLIGHT
BEGIN:STANDARD
TZOFFSETFROM:-0700
TZOFFSETTO:-0800
TZNAME:PST
DTSTART:20261101T090000
END:STANDARD
END:VTIMEZONE
BEGIN:VEVENT
DTSTART;TZID=America/Los_Angeles:20250929T190000
DTEND;TZID=America/Los_Angeles:20250929T203000
DTSTAMP:20260422T184442
CREATED:20250917T061848Z
LAST-MODIFIED:20250923T030339Z
UID:10000008-1759172400-1759177800@eloiahealingarts.com
SUMMARY:Sound Bath Journey with the Archangels at Michaelmas
DESCRIPTION:During the feast day of Archangel Michael and the Angels\, come celebrate our connection to the Divine Presence with an uplifting\, inspiring\, and relaxing sound bath meditation. We will connect with Archangel Michael and Archaea Faith as we receive guidance and encouragement for our Earthly journey from the octave of the Archangels. \nDuring the guided meditation\, allow the beautiful vibrations of FIFTEEN chakra-tuned crystal and metal singing bowls\, along with the tremendous healing power of TEN planetary-tuned gongs\, to release long-held stress\, tension\, and blockages.  Gain insight and inner space during this inward journey through sound. \nCost: $35 \nSit in one of our comfy chairs\, or you may bring a yoga mat to lie down. \nRegister Here. \n  \n_____________ \n  \nIMPORTANT CONSIDERATIONS: \nIn-person sound bath experiences are very physical in nature–many feel as if they had a massage after a sound bath. Because of the intensity of the vibrations\, this is not recommended for those sensitive to sound\, including children and those who are pregnant.Refunds are not provided\, however\, your ticket is fully transferable to another participant. Feel free to send someone in your place.With 24-hour notice\, you may transfer your seat to another upcoming sound bath. 24-hour notice is required\, so we can sell your open spot. Your credit must be used within 3-months.
URL:https://eloiahealingarts.com/event/sound-bath-journey-with-the-archangels-at-michaelmas/
LOCATION:Eloia Healing Arts\, 41690 Enterprise Circle\, North\, suite #108\, Temecula\, CA\, 92590\, United States
CATEGORIES:Sound Baths
ATTACH;FMTTYPE=image/jpeg:https://eloiahealingarts.com/wp-content/uploads/2022/09/Michaelmas-Sound-Bath-logo.jpg
END:VEVENT
BEGIN:VEVENT
DTSTART;TZID=America/Los_Angeles:20250917T183000
DTEND;TZID=America/Los_Angeles:20250917T200000
DTSTAMP:20260422T184442
CREATED:20250917T052925Z
LAST-MODIFIED:20250917T052925Z
UID:10000003-1758133800-1758139200@eloiahealingarts.com
SUMMARY:Archangel Meditation: Journey with the Archangels of the Great Rays
DESCRIPTION:Learn to connect with and receive loving guidance from the Archangels of the Great Rays.\n1.15.25 – Archangels Michael & Faith\n2.19 – Archangels Jophiel & Christine\n3.12 – Archangels Chamuel & Charity\n4.16 – Archangels Gabriel & Hope\n5.21 – Archangels Raphael & Mother Mary\n6.18 – Archangels Uriel & Aurora\n7.16 – Archangels Zadkiel & Holy Amethyst\n8.13 – Archangels Metatron\, Sandalphon\, & Sophia\n9.17 – Journey with the Archangels at Michaelmas \n_________________________________________________ \nNo previous meditation experience is required. This series is for teens and adults–this is not a children’s program. \nThere are meditation chairs available. Bring a notebook and a sealed water container (water only\, please). \n$30/per seat \nAdvanced registration is strongly recommended. \nDoors open 10 – 15 minutes before the start of the workshop. \n_________________________________________________________
URL:https://eloiahealingarts.com/event/archangel-meditation-journey-with-the-archangels-of-the-great-rays/
LOCATION:Eloia Healing Arts\, 41690 Enterprise Circle\, North\, suite #108\, Temecula\, CA\, 92590\, United States
CATEGORIES:Workshops
ORGANIZER;CN="Eloia Healing Arts":MAILTO:eloia@eloiahealingarts.com
END:VEVENT
END:VCALENDAR