BEGIN:VCALENDAR
VERSION:2.0
PRODID:-//Eloia Healing Arts - ECPv6.15.20//NONSGML v1.0//EN
CALSCALE:GREGORIAN
METHOD:PUBLISH
X-ORIGINAL-URL:https://eloiahealingarts.com
X-WR-CALDESC:Events for Eloia Healing Arts
REFRESH-INTERVAL;VALUE=DURATION:PT1H
X-Robots-Tag:noindex
X-PUBLISHED-TTL:PT1H
BEGIN:VTIMEZONE
TZID:America/Los_Angeles
BEGIN:DAYLIGHT
TZOFFSETFROM:-0800
TZOFFSETTO:-0700
TZNAME:PDT
DTSTART:20240310T100000
END:DAYLIGHT
BEGIN:STANDARD
TZOFFSETFROM:-0700
TZOFFSETTO:-0800
TZNAME:PST
DTSTART:20241103T090000
END:STANDARD
BEGIN:DAYLIGHT
TZOFFSETFROM:-0800
TZOFFSETTO:-0700
TZNAME:PDT
DTSTART:20250309T100000
END:DAYLIGHT
BEGIN:STANDARD
TZOFFSETFROM:-0700
TZOFFSETTO:-0800
TZNAME:PST
DTSTART:20251102T090000
END:STANDARD
BEGIN:DAYLIGHT
TZOFFSETFROM:-0800
TZOFFSETTO:-0700
TZNAME:PDT
DTSTART:20260308T100000
END:DAYLIGHT
BEGIN:STANDARD
TZOFFSETFROM:-0700
TZOFFSETTO:-0800
TZNAME:PST
DTSTART:20261101T090000
END:STANDARD
END:VTIMEZONE
BEGIN:VEVENT
DTSTART;TZID=America/Los_Angeles:20251010T190000
DTEND;TZID=America/Los_Angeles:20251010T210000
DTSTAMP:20260422T120003
CREATED:20250917T050653Z
LAST-MODIFIED:20251009T184828Z
UID:10000002-1760122800-1760130000@eloiahealingarts.com
SUMMARY:Healing Waters Sound Bath - Charity Event
DESCRIPTION:ONE SPOT AVAILABLE! (as of 10/9 and 12:00 noon)\nA special charity event benefiting BLESSING WELLS with Butterfly Effect Global \nJoin us for a HEALING WATERS SOUND BATH meditation\, as we bring healing to the waters of the planet.  Leave feeling refreshed and nourished by the sound waves\, and fortified in spirit\, knowing that your donation is doing Good in the world. \nIf we sell out this sound bath (20 seats)\, we will have donated a BLESSING WELL\, through Butterfly Effect Global\, an established 501(c)3. \nWon’t you help us give life-saving clean water to a village in India who needs it? \n100% of the proceeds from this event go to the BLESSING WELL at Butterfly Effect Global. \nRead more here. \nRegister here. \nSave lives here.
URL:https://eloiahealingarts.com/event/healing-waters-sound-bath-charity-event/
LOCATION:Eloia Healing Arts\, 41690 Enterprise Circle\, North\, suite #108\, Temecula\, CA\, 92590\, United States
CATEGORIES:Event,Sound Baths
ATTACH;FMTTYPE=image/jpeg:https://eloiahealingarts.com/wp-content/uploads/2025/08/Healing-Waters-banner-2560-x-800-px-1.jpg
ORGANIZER;CN="Eloia Healing Arts":MAILTO:eloia@eloiahealingarts.com
END:VEVENT
END:VCALENDAR